BEGIN:VCALENDAR
VERSION:2.0
PRODID:-//ChamberMaster//Event Calendar 2.0//EN
METHOD:PUBLISH
X-PUBLISHED-TTL:P3D
REFRESH-INTERVAL:P3D
CALSCALE:GREGORIAN
BEGIN:VEVENT
DTSTART:20200625T200000Z
DTEND:20200625T210000Z
X-MICROSOFT-CDO-ALLDAYEVENT:FALSE
SUMMARY:Virtual Bingo - June 25\, 2020
DESCRIPTION:With COVID-19 keeping the majority of us inside\, we thought it may be a fun idea to get some members together virtually for a fun-filled and free afternoon of Bingo. \n\n\n\nGrab your favorite drink and get ready - there will be up to FIVE winners! Winners will receive a virtual giftcard to Amazon in the amount of $20. \n\n\n\nThis event is limited to the first 100 people. Please be sure to register in advance so we can send you your virtual bingo card prior to the start of the meeting.
X-ALT-DESC;FMTTYPE=text/html:<span style="font-family:arial\;"><span style="font-size:16px\;">With COVID-19 keeping the majority of us inside\, we thought it may be a fun idea to get some members together virtually for a fun-filled and free afternoon of Bingo.&nbsp\;<br />\n<br />\n<span style="color:#0000FF\;">Grab your favorite drink and get ready - there will be up to FIVE winners! Winners will receive a virtual giftcard to Amazon in the amount of $20.&nbsp\;</span><br />\n<br />\n<span style="color:#B22222\;">This event is limited to the first 100 people. Please be sure to register in advance so we can send you your virtual bingo card prior to the start of the meeting.&nbsp\;</span></span></span>
LOCATION:Zoom Meeting https://zoom.us/j/2256342122 If you prefer to dial in via phone only\, use: 1-646-558-8656 Meeting ID: 225 634 2122
UID:e.9293.2203
SEQUENCE:3
DTSTAMP:20260420T145854Z
URL:https://business.nvbia.com/events/details/virtual-bingo-june-25-2020-2203
END:VEVENT

END:VCALENDAR
