BEGIN:VCALENDAR
VERSION:2.0
PRODID:-//ChamberMaster//Event Calendar 2.0//EN
METHOD:PUBLISH
X-PUBLISHED-TTL:P3D
REFRESH-INTERVAL:P3D
CALSCALE:GREGORIAN
BEGIN:VEVENT
DTSTART:20211117T220000Z
DTEND:20211117T231500Z
X-MICROSOFT-CDO-ALLDAYEVENT:FALSE
SUMMARY:The Growth of Crowdfunding Real Estate Investments
DESCRIPTION:The Growth of Crowdfunding Real Estate Investments\n\n\n\nThe Jumpstart Our Business Startups (JOBS) Act was passed in 2012 to ease security regulations for investments. This opened the way for a broader range of investors to participate in commercial real estate projects that were traditionally funded by institutional investors. In the ten years since the JOBS Act\, billions of dollars of real estate equity have been raised through crowdfunding platforms. Join us to learn about these crowdfunding models and their impact on real estate development.\n\n \n\nNovember 17\, 2021\, Wednesday\, from 5:00 pm to 6:15 pm - A webinar by Zoom\n\n \n\nSpeakers: \n\nDaniel Sherman\n\nManaging Director\, Crowdstreet\n\nCrowdstreet has crowdfunded over $2.4 billion in 540 commercial real estate offerings since 2014.\n\n \n\nEve Picker\n\nFounder and CEO\, Small Change\n\nSmall Change is a crowdfunding platform matching investors with developers of projects with social impact.\n\n \n\nRegister at https://crowdfundrealestate.eventbrite.com or email mariboj@gmu.edu
X-ALT-DESC;FMTTYPE=text/html:<span style="font-family:arial\;"><span style="font-size:16px\;"><strong>The Growth of Crowdfunding&nbsp\;Real Estate Investments</strong><br />\n<br />\nThe Jumpstart Our Business Startups (JOBS) Act was passed in 2012 to ease security regulations for investments. This opened the way for a broader range of investors to participate in commercial real estate projects that were traditionally funded by institutional investors. In the ten years since the JOBS Act\, billions of dollars of real estate equity have been raised through crowdfunding platforms. Join us to learn about these crowdfunding models and their impact on real estate development.<br />\n&nbsp\;<br />\n<strong>November 17\, 2021\, Wednesday\, from 5:00 pm to 6:15 pm - A webinar by Zoom</strong><br />\n&nbsp\;<br />\n<strong>Speakers: </strong><br />\n<strong>Daniel Sherman</strong><br />\n<strong>Managing Director\, Crowdstreet</strong><br />\nCrowdstreet has crowdfunded over $2.4 billion in 540 commercial real estate offerings since 2014.<br />\n&nbsp\;<br />\n<strong>Eve Picker</strong><br />\n<strong>Founder and CEO\, Small Change</strong><br />\nSmall Change is a crowdfunding platform matching investors with developers of projects with social impact.<br />\n&nbsp\;<br />\n<strong>Register at </strong><a href="https://crowdfundrealestate.eventbrite.com/"><strong>https://crowdfundrealestate.eventbrite.com</strong></a><strong> or email mariboj@gmu.edu</strong></span></span>
LOCATION:Webinar
UID:e.9293.2571
SEQUENCE:3
DTSTAMP:20260425T201245Z
URL:https://business.nvbia.com/events/details/the-growth-of-crowdfunding-real-estate-investments-2571
END:VEVENT

END:VCALENDAR
