BEGIN:VCALENDAR
VERSION:2.0
PRODID:-//ChamberMaster//Event Calendar 2.0//EN
METHOD:PUBLISH
X-PUBLISHED-TTL:P3D
REFRESH-INTERVAL:P3D
CALSCALE:GREGORIAN
BEGIN:VEVENT
DTSTART:20190926T223000Z
DTEND:20190927T013000Z
X-MICROSOFT-CDO-ALLDAYEVENT:FALSE
SUMMARY:Retirement Planning Today: An Educational Course for Adults Ages 50 to 70
DESCRIPTION:Learn 11 Strategies to Save Money on this year's Taxes!\n\n\n\nThis course consists of two 3-hour sessions.\n\n\n\nLearn how to:\n\n	Determine the amount of money you need to retire\n	Create your own goals for a "successful retirement"\n	Eliminate debt and improve cash flow\n	Properly convert your IRA to a Roth IRA\n	Select the Retirement Plan distribution choice that is right for you\n	Plan your retirement income to preserve a comfortable standard of living\n	Transfer the risk of potential financial losses before or during retirement\n	Reduce or eliminate taxes\, expenses\, delays and legal challenges with estate planning\n\nClick here for the full program.
X-ALT-DESC;FMTTYPE=text/html:<u><strong>Learn 11 Strategies to Save Money on this year&#39\;s Taxes!</strong></u><br />\n<br />\nThis course consists of two 3-hour sessions.<br />\n<br />\nLearn how to:\n<ul>\n	<li>Determine the amount of money you need to retire</li>\n	<li>Create your own goals for a &quot\;successful retirement&quot\;</li>\n	<li>Eliminate debt and improve cash flow</li>\n	<li>Properly convert your IRA to a Roth IRA</li>\n	<li>Select the Retirement Plan distribution choice that is right for you</li>\n	<li>Plan your retirement income to preserve a comfortable standard of living</li>\n	<li>Transfer the risk of potential financial losses before or during retirement</li>\n	<li>Reduce or eliminate taxes\, expenses\, delays and legal challenges with estate planning</li>\n</ul>\n<a href="https://chambermaster.blob.core.windows.net/userfiles/UserFiles/chambers/9293/File/Outside_Events/FMT13982CentrevilleHighSchoolBrochure.pdf">Click here for the full program.</a>
LOCATION:Centreville High School 6001 Union Mill Road Clifton\, VA 20124 Classroom 114
UID:e.9293.1923
SEQUENCE:3
DTSTAMP:20260423T093255Z
URL:https://business.nvbia.com/events/details/retirement-planning-today-an-educational-course-for-adults-ages-50-to-70-09-26-2019-1923
END:VEVENT

END:VCALENDAR
