BEGIN:VCALENDAR
VERSION:2.0
PRODID:-//ChamberMaster//Event Calendar 2.0//EN
METHOD:PUBLISH
X-PUBLISHED-TTL:P3D
REFRESH-INTERVAL:P3D
CALSCALE:GREGORIAN
BEGIN:VEVENT
DTSTART:20210428T120000Z
DTEND:20210428T130000Z
X-MICROSOFT-CDO-ALLDAYEVENT:FALSE
SUMMARY:Prince William Chapter Business Meeting Wed.\, Apr. 28\, 2021
DESCRIPTION:Chapter Business meetings provide members with the ability to get involved at the local level in their community.
X-ALT-DESC;FMTTYPE=text/html:<span style="font-family:arial\;"><span style="font-size:16px\;"><span style="background-color: rgb(255\, 255\, 255)\;">Chapter Business meetings provide members with the ability to get involved at the local level in their community.</span></span></span>
LOCATION:Zoom Meeting https://zoom.us/j/2256342122 Meeting ID: 225 634 2122 Call-In #: 1-646-558-8656
UID:e.9293.2315
SEQUENCE:3
DTSTAMP:20260424T222851Z
URL:https://business.nvbia.com/events/details/prince-william-chapter-business-meeting-wed-apr-28-2021-2315
END:VEVENT

END:VCALENDAR
