BEGIN:VCALENDAR
VERSION:2.0
PRODID:-//ChamberMaster//Event Calendar 2.0//EN
METHOD:PUBLISH
X-PUBLISHED-TTL:P3D
REFRESH-INTERVAL:P3D
CALSCALE:GREGORIAN
BEGIN:VEVENT
DTSTART;VALUE=DATE:20230102
DTEND;VALUE=DATE:20230103
TRANSP:TRANSPARENT
X-MICROSOFT-CDO-ALLDAYEVENT:TRUE
SUMMARY:NVBIA OFFICE CLOSED - COMPANY HOLIDAY
DESCRIPTION:NVBIA OFFICE CLOSED - COMPANY HOLIDAY
X-ALT-DESC;FMTTYPE=text/html:<span style="color: rgb(51\, 51\, 51)\; font-family: sans-serif\, Arial\, Verdana\, &quot\;Trebuchet MS&quot\;\; font-size: 13px\; background-color: rgb(255\, 255\, 255)\;">NVBIA OFFICE CLOSED - COMPANY HOLIDAY</span>
LOCATION:
UID:e.9293.2728
SEQUENCE:3
DTSTAMP:20260424T143552Z
URL:https://business.nvbia.com/events/details/nvbia-office-closed-company-holiday-2728
END:VEVENT

END:VCALENDAR
