BEGIN:VCALENDAR
VERSION:2.0
PRODID:-//ChamberMaster//Event Calendar 2.0//EN
METHOD:PUBLISH
X-PUBLISHED-TTL:P3D
REFRESH-INTERVAL:P3D
CALSCALE:GREGORIAN
BEGIN:VEVENT
DTSTART;VALUE=DATE:20191129
DTEND;VALUE=DATE:20191130
TRANSP:TRANSPARENT
X-MICROSOFT-CDO-ALLDAYEVENT:TRUE
SUMMARY:NVBIA OFFICE CLOSED - COMPANY HOLIDAY
DESCRIPTION:Day After Thanksgiving
X-ALT-DESC;FMTTYPE=text/html:<strong>Day After Thanksgiving</strong>
LOCATION:
UID:e.9293.1665
SEQUENCE:3
DTSTAMP:20260422T162040Z
URL:https://business.nvbia.com/events/details/nvbia-office-closed-company-holiday-1665
END:VEVENT

END:VCALENDAR
