BEGIN:VCALENDAR
VERSION:2.0
PRODID:-//ChamberMaster//Event Calendar 2.0//EN
METHOD:PUBLISH
X-PUBLISHED-TTL:P3D
REFRESH-INTERVAL:P3D
CALSCALE:GREGORIAN
BEGIN:VEVENT
DTSTART:20240306T133000Z
DTEND:20240306T143000Z
X-MICROSOFT-CDO-ALLDAYEVENT:FALSE
SUMMARY:Membership & Retention Committee Meeting - Wed.\, Mar. 6\, 2024
DESCRIPTION:The Membership & Retention Committees of volunteers work with fellow members to help retain and grow NVBIA. This meeting will take place via Zoom Conference by video or phone.
X-ALT-DESC;FMTTYPE=text/html:<span style="background:white\;"><span style="color:#333333\;"><span style="font-size:10.0pt\;">The Membership &amp\; Retention Committees&nbsp\;</span></span></span>of volunteers work with fellow members to help retain and grow NVBIA. This meeting will take place via Zoom Conference by video or phone.
LOCATION:Join Zoom Meeting https://zoom.us/j/2256342122 Meeting ID: 225 634 2122 Dial by in numbers: (301) 715-8592
UID:e.9293.4280
SEQUENCE:3
DTSTAMP:20260425T112657Z
URL:https://business.nvbia.com/events/details/membership-retention-committee-meeting-wed-mar-6-2024-4280
END:VEVENT

END:VCALENDAR
