BEGIN:VCALENDAR
VERSION:2.0
PRODID:-//ChamberMaster//Event Calendar 2.0//EN
METHOD:PUBLISH
X-PUBLISHED-TTL:P3D
REFRESH-INTERVAL:P3D
CALSCALE:GREGORIAN
BEGIN:VEVENT
DTSTART:20200505T140000Z
DTEND:20200505T150000Z
X-MICROSOFT-CDO-ALLDAYEVENT:FALSE
SUMMARY:Membership: Ambassador (Retention) Committee Meeting - May 5\, 2020 Via Conference Call
DESCRIPTION:ZOOM CONFERENCE CALL\n\nClick on this link to join Zoom Meeting\n\nhttps://zoom.us/j/2256342122\n\n\n\nIf you prefer to dial:\n\n        253-215-8782\n\n        301-715-8592\n\nMeeting ID: 225 634 2122\n\n\n\nThis committee of volunteers works with fellow members to help retain NVBIA members.
X-ALT-DESC;FMTTYPE=text/html:<span style="color: rgb(51\, 51\, 51)\; font-size: 16px\; background-color: rgb(255\, 255\, 255)\; font-family: arial\;"><span style="color: rgb(0\, 0\, 255)\;"><strong>ZOOM CONFERENCE CALL</strong></span><br />\nClick on this link to join Zoom Meeting<br />\n<a href="https://zoom.us/j/2256342122" style="color: rgb(7\, 130\, 193)\;">https://zoom.us/j/2256342122</a><br />\n<br />\nIf you prefer to dial:<br />\n&nbsp\; &nbsp\; &nbsp\; &nbsp\; 253-215-8782<br />\n&nbsp\; &nbsp\; &nbsp\; &nbsp\; 301-715-8592<br />\nMeeting ID: 225 634 2122</span><br />\n<br />\n<span style="font-size:16px\;">This committee of volunteers works with fellow members to help retain NVBIA members.</span>
LOCATION:ZOOM CONFERENCE CALL Click on this link to join Zoom Meeting https://zoom.us/j/2256342122 If you prefer to dial: 253-215-8782 301-715-8592 Meeting ID: 225 634 2122
UID:e.9293.2120
SEQUENCE:3
DTSTAMP:20260425T183352Z
URL:https://business.nvbia.com/events/details/membership-ambassador-retention-committee-meeting-may-5-2020-via-conference-call-2120
END:VEVENT

END:VCALENDAR
