BEGIN:VCALENDAR
VERSION:2.0
PRODID:-//ChamberMaster//Event Calendar 2.0//EN
METHOD:PUBLISH
X-PUBLISHED-TTL:P3D
REFRESH-INTERVAL:P3D
CALSCALE:GREGORIAN
BEGIN:VEVENT
DTSTART:20200515T123000Z
DTEND:20200515T133000Z
X-MICROSOFT-CDO-ALLDAYEVENT:FALSE
SUMMARY:Fairfax-Arlington-Alexandria Chapter Business Meeting - May 15\, 2020 Via Conference Call
DESCRIPTION:Join Zoom Meeting\n\nhttps://zoom.us/j/2256342122\n\n \n\nMeeting ID: 225 634 2122\n\n(253) 215-8782\n\n(301) 715-8592\n\n\nFairfax-Arlington-Alexandria Chapter Business meetings provide members with the ability to get involved at the local level in their community.
X-ALT-DESC;FMTTYPE=text/html:<div style="background-color: rgb(255\, 255\, 255)\; color: rgb(54\, 73\, 95)\; font-family: Arial\, Verdana\, Helvetica\, sans-serif\; font-size: 14px\; white-space: pre-wrap\;"><span style="font-size: 16px\;">Join Zoom Meeting</span></div>\n\n<div style="background-color: rgb(255\, 255\, 255)\; color: rgb(54\, 73\, 95)\; font-family: Arial\, Verdana\, Helvetica\, sans-serif\; font-size: 14px\; white-space: pre-wrap\;"><span style="font-size: 16px\;"><a data-link-type="web" href="https://zoom.us/j/2256342122" rel="noopener noreferrer" style="color: rgb(0\, 0\, 255)\;" target="_blank">https://zoom.us/j/2256342122</a></span></div>\n\n<div style="background-color: rgb(255\, 255\, 255)\; color: rgb(54\, 73\, 95)\; font-family: Arial\, Verdana\, Helvetica\, sans-serif\; font-size: 14px\; white-space: pre-wrap\;">&nbsp\;</div>\n\n<div style="background-color: rgb(255\, 255\, 255)\; color: rgb(54\, 73\, 95)\; font-family: Arial\, Verdana\, Helvetica\, sans-serif\; font-size: 14px\; white-space: pre-wrap\;"><span style="font-size: 16px\;">Meeting ID: 225 634 2122</span></div>\n\n<div style="background-color: rgb(255\, 255\, 255)\; color: rgb(54\, 73\, 95)\; font-family: Arial\, Verdana\, Helvetica\, sans-serif\; font-size: 14px\; white-space: pre-wrap\;"><span style="font-size: 16px\;">(253) 215-8782</span></div>\n\n<div style="background-color: rgb(255\, 255\, 255)\; color: rgb(54\, 73\, 95)\; font-family: Arial\, Verdana\, Helvetica\, sans-serif\; font-size: 14px\; white-space: pre-wrap\;"><span style="font-size: 16px\;">(301) 715-8592</span></div>\n<br />\n<span style="font-size:16px\;"><span style="background:white\;">Fairfax-Arlington-Alexandria Chapter Business meetings provide members with the ability to get involved at the local level in their community.</span></span>
LOCATION:Join Zoom Meeting https://zoom.us/j/2256342122 Meeting ID: 225 634 2122 (253) 215-8782 (301) 715-8592
UID:e.9293.2151
SEQUENCE:3
DTSTAMP:20260420T025632Z
URL:https://business.nvbia.com/events/details/fairfax-arlington-alexandria-chapter-business-meeting-may-15-2020-via-conference-call-2151
END:VEVENT

END:VCALENDAR
