BEGIN:VCALENDAR
VERSION:2.0
PRODID:-//ChamberMaster//Event Calendar 2.0//EN
METHOD:PUBLISH
X-PUBLISHED-TTL:P3D
REFRESH-INTERVAL:P3D
CALSCALE:GREGORIAN
BEGIN:VEVENT
DTSTART:20190920T123000Z
DTEND:20190920T133000Z
X-MICROSOFT-CDO-ALLDAYEVENT:FALSE
SUMMARY:Fairfax-Arlington-Alexandria Chapter Business Meeting - Friday\, September 20\, 2019
DESCRIPTION:Fairfax-Arlington-Alexandria Chapter Buinsess Meeting
X-ALT-DESC;FMTTYPE=text/html:<br />\n<strong>Fairfax-Arlington-Alexandria Chapter Buinsess Meeting</strong>
LOCATION:Reed Smith 7900 Tysons One Place Suite 500 Tysons\, VA 22102
UID:e.9293.1889
SEQUENCE:3
DTSTAMP:20260421T071926Z
URL:https://business.nvbia.com/events/details/fairfax-arlington-alexandria-chapter-business-meeting-friday-september-20-2019-1889
END:VEVENT

END:VCALENDAR
