BEGIN:VCALENDAR
VERSION:2.0
PRODID:-//ChamberMaster//Event Calendar 2.0//EN
METHOD:PUBLISH
X-PUBLISHED-TTL:P3D
REFRESH-INTERVAL:P3D
CALSCALE:GREGORIAN
BEGIN:VEVENT
DTSTART:20191115T133000Z
DTEND:20191115T143000Z
X-MICROSOFT-CDO-ALLDAYEVENT:FALSE
SUMMARY:Fairfax-Arlington-Alexandria Chapter Business Meeting - Friday\, November 15\, 2019
DESCRIPTION:Fairfax-Arlington-Alexandria Chapter Business Meeting
X-ALT-DESC;FMTTYPE=text/html:<br>\n<strong>Fairfax-Arlington-Alexandria Chapter Business Meeting</strong>
LOCATION:Reed Smith 7900 Tysons One Place Suite 500 Tysons\, VA 22102
UID:e.9293.1902
SEQUENCE:3
DTSTAMP:20260424T035039Z
URL:https://business.nvbia.com/events/details/fairfax-arlington-alexandria-chapter-business-meeting-friday-november-15-2019-1902
END:VEVENT

END:VCALENDAR
