BEGIN:VCALENDAR
VERSION:2.0
PRODID:-//ChamberMaster//Event Calendar 2.0//EN
METHOD:PUBLISH
X-PUBLISHED-TTL:P3D
REFRESH-INTERVAL:P3D
CALSCALE:GREGORIAN
BEGIN:VEVENT
DTSTART:20200114T200000Z
DTEND:20200114T210000Z
X-MICROSOFT-CDO-ALLDAYEVENT:FALSE
SUMMARY:Executive Committee Meeting - January 14\, 2020
DESCRIPTION:Executive Committee Meeting
X-ALT-DESC;FMTTYPE=text/html:<br />\n<strong>Executive Committee Meeting</strong>
LOCATION:NVBIA Large Conference Room 3684 Centreview Drive\, Suite 110B Chantilly\, VA 20151
UID:e.9293.1969
SEQUENCE:3
DTSTAMP:20260422T104903Z
URL:https://business.nvbia.com/events/details/executive-committee-meeting-january-14-2020-1969
END:VEVENT

END:VCALENDAR
