BEGIN:VCALENDAR
VERSION:2.0
PRODID:-//ChamberMaster//Event Calendar 2.0//EN
METHOD:PUBLISH
X-PUBLISHED-TTL:P3D
REFRESH-INTERVAL:P3D
CALSCALE:GREGORIAN
BEGIN:VEVENT
DTSTART:20200518T190000Z
DTEND:20200518T200000Z
X-MICROSOFT-CDO-ALLDAYEVENT:FALSE
SUMMARY:Creating Infill Sites Within Existing Golf Courses Webinar - May 18\, 2020
DESCRIPTION:Creating Infill Site Projects makes the most of existing golf course properties and their resources.  Merging best practices for the ecology and economy of the site\, owners of golf properties have the opportunity to meet untapped potential for their properties and provide space for infill development.  This Webinar is being presented by Charles P. Johnson Associates and will address existing golf course analysis\, land use redesign\, zoning\, density and cost analysis.  This timely process is the pathway to preserving a club's vitality and profitability while creating development opportunities for land developers\, builders and consultants.
X-ALT-DESC;FMTTYPE=text/html:<span style="font-size:16px\;">Creating Infill Site Projects makes the most of existing golf course properties and their resources.&nbsp\; Merging best practices for the ecology and economy of the site\, owners of golf properties have the opportunity to meet untapped potential for their properties and provide space for infill development.&nbsp\; This Webinar is being presented by Charles P. Johnson Associates and will address existing golf course analysis\, land use redesign\, zoning\, density and cost analysis.&nbsp\; This timely process is the pathway to preserving a club&rsquo\;s vitality and profitability while creating development opportunities for land developers\, builders and consultants.&nbsp\; &nbsp\; &nbsp\;</span>
LOCATION:Zoom Webinar Please register in advance of the webinar. https://us02web.zoom.us/webinar/register/WN_aaGQ1zVPTPO-l4pccPFluw
UID:e.9293.2177
SEQUENCE:3
DTSTAMP:20260421T002420Z
URL:https://business.nvbia.com/events/details/creating-infill-sites-within-existing-golf-courses-webinar-may-18-2020-2177
END:VEVENT

END:VCALENDAR
