BEGIN:VCALENDAR
VERSION:2.0
PRODID:-//ChamberMaster//Event Calendar 2.0//EN
METHOD:PUBLISH
X-PUBLISHED-TTL:P3D
REFRESH-INTERVAL:P3D
CALSCALE:GREGORIAN
BEGIN:VEVENT
DTSTART:20200226T130000Z
DTEND:20200226T150000Z
X-MICROSOFT-CDO-ALLDAYEVENT:FALSE
SUMMARY:Building Industry 101 - Session IV\, Construction and New Home Sales - February 26\, 2020
DESCRIPTION:On Wednesday\, February 26th\, NVBIA will host the final session of its Building Industry 101 Series.  \n\n \n\nThe series has provided participants with a "soup-to-nuts" framework of how the homebuilding industry works from the builder's perspective. The panel for Session IV will provide attendees with:\n\n	New Home Sales and Construction\n	Home Sales & Marketing\n	Home Construction\n	Customer Care After Move-in\n	Tracking Results of Operation\n\n\n\nPanelists:\n\nJon Adler\, President - Capital Division\, Dream Finders Homes\n\nCraig Havenner\, President\, The Christopher Companies\n\nJerry Berman\, Area President\, The Christopher Companies
X-ALT-DESC;FMTTYPE=text/html:<div style="font-family: Arial\, Helvetica\, sans-serif\; font-size: 16px\;">\n<div style="font-family: Arial\, Helvetica\, sans-serif\; font-size: 14.6667px\;">\n<div>On Wednesday\, February&nbsp\;26th\,&nbsp\;NVBIA&nbsp\;will host the final session of its Building Industry&nbsp\;101 Series.&nbsp\;&nbsp\;</div>\n\n<div>&nbsp\;</div>\n\n<div>The series has provided participants with a &quot\;soup-to-nuts&quot\; framework of how the&nbsp\;homebuilding&nbsp\;industry works from the builder&#39\;s perspective. The panel for Session IV will provide attendees with:\n<ul style="padding: 0px 40px\;">\n	<li>New Home Sales and Construction</li>\n	<li>Home Sales &amp\; Marketing</li>\n	<li>Home Construction</li>\n	<li>Customer Care After Move-in</li>\n	<li>Tracking Results of Operation</li>\n</ul>\n<br />\n<strong>Panelists</strong>:<br />\nJon Adler\, President - Capital Division\, Dream Finders Homes<br />\nCraig Havenner\, President\, The Christopher Companies<br />\n<span style="color: rgb(64\, 63\, 66)\; font-family: Arial\, Verdana\, Helvetica\, sans-serif\; font-size: 14px\; white-space: pre-wrap\; background-color: rgb(255\, 255\, 255)\;">Jerry Berman\, Area President\, The Christopher Companies</span></div>\n</div>\n</div>\n
LOCATION:First Excel Title Penthouse Suite 3201 Jermantown Road Fairfax\, VA 22030
UID:e.9293.1961
SEQUENCE:3
DTSTAMP:20260422T133825Z
URL:https://business.nvbia.com/events/details/building-industry-101-session-iv-construction-and-new-home-sales-february-26-2020-1961
END:VEVENT

END:VCALENDAR
