BEGIN:VCALENDAR
VERSION:2.0
PRODID:-//ChamberMaster//Event Calendar 2.0//EN
METHOD:PUBLISH
X-PUBLISHED-TTL:P3D
REFRESH-INTERVAL:P3D
CALSCALE:GREGORIAN
BEGIN:VEVENT
DTSTART:20230516T190000Z
DTEND:20230516T200000Z
X-MICROSOFT-CDO-ALLDAYEVENT:FALSE
SUMMARY:Associates Committee Meeting Tue.\, May 16\, 2023
DESCRIPTION:The Associates Committee is hosting its monthly meeting at 3:00 pm at the NVBIA Office in Chantilly.
X-ALT-DESC;FMTTYPE=text/html:<table cellpadding="1" cellspacing="1" style="width:500px\;">\n	<tbody>\n		<tr>\n			<td><br />\n			<span style="font-size:20px\;">The Associates Committee is hosting its monthly meeting at 3:00 pm at the NVBIA Office in Chantilly.&nbsp\;</span></td>\n		</tr>\n	</tbody>\n</table>\n
LOCATION:NVBIA Office
UID:e.9293.3265
SEQUENCE:3
DTSTAMP:20260422T105137Z
URL:https://business.nvbia.com/events/details/associates-committee-meeting-tue-may-16-2023-3265
END:VEVENT

END:VCALENDAR
